BEGIN:VCALENDAR
VERSION:2.0
PRODID:-//Anstatt nach Haus//Saus und Braus//DE
BEGIN:VEVENT
UID:saus-und-braus-20260610@anstatt-nach-haus.de
DTSTAMP:20260418T072106Z
DTSTART;TZID=Europe/Berlin:20260610T170000
DTEND;TZID=Europe/Berlin:20260610T220000
SUMMARY:Saus und Braus
LOCATION:Markt 2\, 99817 Eisenach
DESCRIPTION:Afterwork Event von Anstatt nach Haus
END:VEVENT
END:VCALENDAR
